{
 "version": 1.0,
 "tileBundlesPath": "./tile",
 "storageInfo": {
  "packetSize": 128,
  "storageFormat": "esriMapCacheStorageModeCompactV2"
 },
 "tileImageInfo": {
  "format": "PNG",
  "compressionQuality": 0,
  "bandCount": 1,
  "lercError": 0
 },
 "tileInfo": {
  "spatialReference": {
   "wkid": 2056,
   "latestWkid": 2056
  },
  "origin": {
   "x": 2420000,
   "y": 1350000
  },
  "rows": 512,
  "cols": 512,
  "dpi": 96,
  "lods": [
   {
    "level": 0,
    "resolution": 131088.64617729236,
    "scale": 495452160
   },
   {
    "level": 1,
    "resolution": 65544.32308864618,
    "scale": 247726080
   },
   {
    "level": 2,
    "resolution": 32772.16154432309,
    "scale": 123863040
   },
   {
    "level": 3,
    "resolution": 16386.080772161546,
    "scale": 61931520
   },
   {
    "level": 4,
    "resolution": 8193.040386080773,
    "scale": 30965760
   },
   {
    "level": 5,
    "resolution": 4096.520193040386,
    "scale": 15482880
   },
   {
    "level": 6,
    "resolution": 2048.260096520193,
    "scale": 7741440
   },
   {
    "level": 7,
    "resolution": 1024.1300482600966,
    "scale": 3870720
   },
   {
    "level": 8,
    "resolution": 512.0650241300483,
    "scale": 1935360
   },
   {
    "level": 9,
    "resolution": 256.03251206502415,
    "scale": 967680
   },
   {
    "level": 10,
    "resolution": 128.01625603251208,
    "scale": 483840
   },
   {
    "level": 11,
    "resolution": 64.00812801625604,
    "scale": 241920
   },
   {
    "level": 12,
    "resolution": 32.00406400812802,
    "scale": 120960
   },
   {
    "level": 13,
    "resolution": 16.00203200406401,
    "scale": 60480
   },
   {
    "level": 14,
    "resolution": 8.001016002032005,
    "scale": 30240
   },
   {
    "level": 15,
    "resolution": 4.000508001016002,
    "scale": 15120
   },
   {
    "level": 16,
    "resolution": 2.000254000508001,
    "scale": 7560
   },
   {
    "level": 17,
    "resolution": 1.0001270002540006,
    "scale": 3780
   },
   {
    "level": 18,
    "resolution": 0.5000635001270003,
    "scale": 1890
   },
   {
    "level": 19,
    "resolution": 0.25003175006350015,
    "scale": 945
   },
   {
    "level": 20,
    "resolution": 0.12501587503175007,
    "scale": 472.5
   },
   {
    "level": 21,
    "resolution": 0.06250793751587504,
    "scale": 236.25
   },
   {
    "level": 22,
    "resolution": 0.03125396875793752,
    "scale": 118.125
   },
   {
    "level": 23,
    "resolution": 0.01562698437896876,
    "scale": 59.0625
   }
  ],
  "format": "PNG",
  "compressionQuality": 0,
  "bandCount": 1,
  "lercError": 0,
  "storageFormat": "esriMapCacheStorageModeCompactV2",
  "packetSize": 128
 },
 "name": "Regional_LV95",
 "serviceDescription": "",
 "spatialReference": {
  "wkid": 2056,
  "latestWkid": 2056,
  "xyTolerance": 0.001,
  "zTolerance": 0.001,
  "mTolerance": 0.001,
  "falseX": -27386400,
  "falseY": -32067900,
  "xyUnits": 10000,
  "falseZ": -100000,
  "zUnits": 10000,
  "falseM": -100000,
  "mUnits": 10000
 },
 "units": "esriMeters",
 "minLOD": 8,
 "maxLOD": 19,
 "resampling": true,
 "layers": [
  {
   "id": 0,
   "name": "Regional_LV95",
   "parentLayerId": -1,
   "defaultVisibility": true,
   "subLayerIds": null,
   "minScale": 0,
   "maxScale": 0,
   "type": "Raster Layer",
   "supportsDynamicLegends": true,
   "legend": [
    {
     "label": "Rouge :Band_1",
     "imageData": "iVBORw0KGgoAAAANSUhEUgAAABQAAAAUCAYAAACNiR0NAAAACXBIWXMAAA7EAAAOxAGVKw4bAAAAOklEQVQ4jWNhoDJgoZmB/8GIfMAIRrR0IbUAC9VMgoJRAykHLFQwAwWMGkg5YBnBBjJCyzOqGUgtAABgfwJTnasaYgAAAABJRU5ErkJggg==",
     "contentType": "image/png",
     "groupId": "0",
     "height": 20,
     "width": 20,
     "layerId": 0,
     "layerName": "Regional_LV95"
    },
    {
     "label": "Vert : Band_2",
     "imageData": "iVBORw0KGgoAAAANSUhEUgAAABQAAAAUCAYAAACNiR0NAAAACXBIWXMAAA7EAAAOxAGVKw4bAAAAPElEQVQ4je3UoQ0AMBBCUS5h/5WvpkmDhjr+AE8gIMLxH7hYSxqMgqFY0I4+oRX0Y8CQCvq9De+f5cBQB19+AlPZl25RAAAAAElFTkSuQmCC",
     "contentType": "image/png",
     "groupId": "0",
     "height": 20,
     "width": 20,
     "layerId": 0,
     "layerName": "Regional_LV95"
    },
    {
     "label": "Bleu : Band_3",
     "imageData": "iVBORw0KGgoAAAANSUhEUgAAABQAAAAUCAYAAACNiR0NAAAACXBIWXMAAA7EAAAOxAGVKw4bAAAAPElEQVQ4jWNhoDJgoaGB//9TZhQjI5qB1AEsowZSDFgoNwIVjBpIOWChghkoYNRAygFSGELKMyoaSB0AAF59AlO8NYpcAAAAAElFTkSuQmCC",
     "contentType": "image/png",
     "groupId": "0",
     "height": 20,
     "width": 20,
     "layerId": 0,
     "layerName": "Regional_LV95"
    }
   ],
   "layerId": 0,
   "layerName": "Regional_LV95",
   "serviceItemId": "e2598f47690b4b8a99ca38b5c96f2413"
  }
 ],
 "initialExtent": {
  "xmin": 2548570,
  "ymin": 1078560,
  "xmax": 2679790,
  "ymax": 1167425,
  "spatialReference": {
   "wkid": 2056,
   "latestWkid": 2056
  }
 },
 "fullExtent": {
  "xmin": 2548570,
  "ymin": 1078560,
  "xmax": 2679790,
  "ymax": 1167425,
  "spatialReference": {
   "wkid": 2056,
   "latestWkid": 2056
  }
 },
 "minScale": 0,
 "maxScale": 0,
 "exportTilesAllowed": false,
 "maxExportTilesCount": 0,
 "currentVersion": 11.5,
 "mapName": "Regional_LV95",
 "singleFusedMapCache": true,
 "type": "MapServer",
 "supportedExtensions": "",
 "capabilities": "TilesOnly,Tilemap",
 "serviceItemId": "e2598f47690b4b8a99ca38b5c96f2413"
}
